BEGIN:VCALENDAR
PRODID;X-RICAL-TZSOURCE=TZINFO:-//com.denhaven2/NONSGML ri_cal gem//EN
CALSCALE:GREGORIAN
VERSION:2.0
BEGIN:VTIMEZONE
TZID;X-RICAL-TZSOURCE=TZINFO:Europe/Berlin
BEGIN:DAYLIGHT
DTSTART:20260329T020000
RDATE:20260329T020000
TZOFFSETFROM:+0100
TZOFFSETTO:+0200
TZNAME:CEST
END:DAYLIGHT
END:VTIMEZONE
BEGIN:VEVENT
DTEND;TZID=Europe/Berlin;VALUE=DATE-TIME:20260611T220000
DTSTART;TZID=Europe/Berlin;VALUE=DATE-TIME:20260611T140000
CATEGORIES:BUSINESS
DESCRIPTION: \n\n\n\n\n\n- Wo Sachsens Wirtschaft zusammenkommt\, sind au
 ch wir dabei für ein persönliches Treffen vor Ort - \nAm 11. Juni 2026 v
 ersammelt der Sommertreff im Lingnerschloss Dresden rund 400 Persönlichk
 eiten aus Unternehmensleitungen\, Unternehmertum sowie Politik und Verwa
 ltung – Menschen\, die Verantwortung tragen und Zukunft gestalten.\nIn e
 ntspannter Atmosphäre entsteht hier ein Raum für echten Austausch auf Au
 genhöhe. Gespräche\, die nicht bei Visitenkarten enden\, sondern Perspek
 tiven eröffnen\, Ideen verbinden und neue Impulse für den Hightech-Stand
 ort Sachsen setzen.\n\n\n\n\n\n\n\n\n\n\n\n\n\n\n\n\n14:00 Uhr Lingnersc
 hloss Dresden\n- Sektempfang und Registrierung- Besichtigung der Dachter
 rasse\n\n\n\n\n\n\n14:45 Uhr Beginn\n\n\n\n\n\n\nEröffnung\n\n\n\n\n\n\n
 \n* Dr. Jens Trepte\, Vorstandsvorsitzender RKW Sachsen e. V.\n* Prof. D
 r. Martin Dix\, Präsident Industrieverein Sachsen 1828 e. V.\n* Lars Geo
 rgi\, Leiter Netzwerkmanagement VEMASinnovativ\n\n\n\n\n\n\n\nStatement\
 n\n\n\n\n\n\n\n* Staatsminister Dirk Panter\, Sächsisches Staatsminister
 ium für Wirtschaft\, Arbeit\, Energie und Klimaschutz\n\nModeration: Dir
 k Vogel\, RKW Sachsen GmbH\n\n\n\n\n\n\n15:30 Uhr Besichtigungstouren (z
 ur Auswahl)komplett organisiert inkl. Transfer\n\n\n\n\n\n\n\n* Globalfo
 undries\n* Institut für Luft- und Raumfahrttechnik an der TU Dresden\n* 
 Radeberger Exportbierbrauerei\n* Architekturführung im Militärhistorisch
 en Museum\n* Verkehrsmuseum Dresden\n* Schloss Albrechtsberg\n* Sächsisc
 her Landtag\n* Stadtrundfahrt / Rundgang\n* KWD Karosseriewerke Dresden 
 GmbH \n* Deutsche Werkstätten Hellerau \n* HZDR Helmholtz-Zentrum Dresde
 n-Rossendorf \n\n\n\n\n\n\n\n\n\n\n\n\n\nca. 18:00 Uhr Treffpunkt Lingne
 rschloss\n\n\n\n\n\n\nEntspanntes Beisammensein mit\n\n\n\n\n\n\n\n* kul
 inarischen Köstlichkeiten\n* jazzigen Klängen\n* Gesprächen in angenehme
 r Atmosphäre\n\n\n\n\n\n\n\nparallel Ausstellung\n\n\n\n\n\n\nPräsentati
 on von Initiativen\, Bündnissen und Unternehmen in einer Begleitausstell
 ung:\n\n* Götz Günther GmbH IT Service\n* MTM Solutions GmbH\n* Auktion 
 &amp\; Markt AG\n\nweitere folgen\n\n\n\n\n\n\nab 22:00 Uhr Veranstaltun
 gsausklang\n\n\n\n\n\n\n\n\n\n\n\n\n\n\n\n\n\n\n\n 
URL:https://www.empfehlungsbund.de/events/148
SUMMARY:Der Empfehlungsbund vor Ort:  Sommertreff der sächsischen Wirtsch
 aft 2026
ORGANIZER;CN=Lingnerschloss Dresden / Empfehlungsbund.de:https://www.empf
 ehlungsbund.de/events/148
ATTACH:https://www.empfehlungsbund.de/events/148
LOCATION:Lingnerschloss Dresden
X-ALT-DESC:<!DOCTYPE HTML><HTML><BODY> <section class="elementor-section
  elementor-top-section elementor-element elementor-element-ae8b2b7 eleme
 ntor-section-boxed elementor-section-height-default elementor-section-he
 ight-default" data-id="ae8b2b7" data-element_type="section" data-setting
 s="{&quot;background_background&quot;:&quot;classic&quot;}"><div class="
 elementor-container elementor-column-gap-wider"><div class="elementor-co
 lumn elementor-col-50 elementor-top-column elementor-element elementor-e
 lement-4d3348f" data-id="4d3348f" data-element_type="column" data-settin
 gs="{&quot;background_background&quot;:&quot;classic&quot;}"><div class=
 "elementor-widget-wrap elementor-element-populated"><div class="elemento
 r-element elementor-element-0b101f5 elementor-widget elementor-widget-he
 ading" data-id="0b101f5" data-element_type="widget" data-widget_type="he
 ading.default"><div class="elementor-widget-container"><h4 class="elemen
 tor-heading-title elementor-size-default">- Wo Sachsens Wirtschaft zusam
 menkommt, sind auch wir dabei f&uuml;r ein pers&ouml;nliches Treffen vor
  Ort -&nbsp;</h4><h4 class="elementor-heading-title elementor-size-defau
 lt">Am 11. Juni 2026 versammelt der Sommertreff im Lingnerschloss Dresde
 n rund 400 Pers&ouml;nlichkeiten aus Unternehmensleitungen, Unternehmert
 um sowie Politik und Verwaltung &ndash; Menschen, die Verantwortung trag
 en und Zukunft gestalten.</h4><p>In entspannter Atmosph&auml;re entsteht
  hier ein Raum f&uuml;r echten Austausch auf Augenh&ouml;he. Gespr&auml;
 che, die nicht bei Visitenkarten enden, sondern Perspektiven er&ouml;ffn
 en, Ideen verbinden und neue Impulse f&uuml;r den Hightech-Standort Sach
 sen setzen.</p></div></div></div></div><div class="elementor-column elem
 entor-col-50 elementor-top-column elementor-element elementor-element-fa
 09029" data-id="fa09029" data-element_type="column" data-settings="{&quo
 t;background_background&quot;:&quot;classic&quot;}"><div class="elemento
 r-widget-wrap elementor-element-populated"><div class="elementor-element
  elementor-element-f93e8e1 elementor-widget elementor-widget-heading" da
 ta-id="f93e8e1" data-element_type="widget" data-widget_type="heading.def
 ault"><div class="elementor-widget-container"><div class="elementor-colu
 mn elementor-col-50 elementor-top-column elementor-element elementor-ele
 ment-4d3348f" data-id="4d3348f" data-element_type="column" data-settings
 ="{&quot;background_background&quot;:&quot;classic&quot;}"><div class="e
 lementor-widget-wrap elementor-element-populated"><div class="elementor-
 element elementor-element-0b101f5 elementor-widget elementor-widget-head
 ing" data-id="0b101f5" data-element_type="widget" data-widget_type="head
 ing.default"><div class="elementor-widget-container"><h4 class="elemento
 r-heading-title elementor-size-default">14:00 Uhr Lingnerschloss Dresden
 </h4><h4 class="elementor-heading-title elementor-size-default">- Sektem
 pfang und Registrierung<br />- Besichtigung der Dachterrasse</h4></div><
 /div><div class="elementor-element elementor-element-02c889b elementor-w
 idget elementor-widget-heading" data-id="02c889b" data-element_type="wid
 get" data-widget_type="heading.default"><div class="elementor-widget-con
 tainer"><h4 class="elementor-heading-title elementor-size-default">14:45
  Uhr Beginn</h4></div></div><div class="elementor-element elementor-elem
 ent-9b116cc elementor-widget elementor-widget-heading" data-id="9b116cc"
  data-element_type="widget" data-widget_type="heading.default"><div clas
 s="elementor-widget-container"><h6 class="elementor-heading-title elemen
 tor-size-default">Er&ouml;ffnung</h6></div></div><div class="elementor-e
 lement elementor-element-360bb24 elementor-widget elementor-widget-text-
 editor" data-id="360bb24" data-element_type="widget" data-widget_type="t
 ext-editor.default"><div class="elementor-widget-container"><ul><li><str
 ong>Dr. Jens Trepte</strong>, Vorstandsvorsitzender RKW Sachsen e. V.</l
 i><li><strong>Prof. Dr. Martin Dix</strong>, Pr&auml;sident Industriever
 ein Sachsen 1828 e. V.</li><li><strong>Lars Georgi</strong>, Leiter Netz
 werkmanagement VEMASinnovativ</li></ul></div></div><div class="elementor
 -element elementor-element-5fc8e38 elementor-widget elementor-widget-hea
 ding" data-id="5fc8e38" data-element_type="widget" data-widget_type="hea
 ding.default"><div class="elementor-widget-container"><h6 class="element
 or-heading-title elementor-size-default">Statement</h6></div></div><div 
 class="elementor-element elementor-element-58436c2 elementor-widget elem
 entor-widget-text-editor" data-id="58436c2" data-element_type="widget" d
 ata-widget_type="text-editor.default"><div class="elementor-widget-conta
 iner"><ul><li><strong>Staatsminister Dirk Panter,</strong> S&auml;chsisc
 hes Staatsministerium f&uuml;r Wirtschaft, Arbeit, Energie und Klimaschu
 tz</li></ul><p>Moderation: Dirk Vogel, RKW Sachsen GmbH</p></div></div><
 div class="elementor-element elementor-element-d1bf2c2 elementor-widget 
 elementor-widget-heading" data-id="d1bf2c2" data-element_type="widget" d
 ata-widget_type="heading.default"><div class="elementor-widget-container
 "><h4 class="elementor-heading-title elementor-size-default">15:30 Uhr B
 esichtigungstouren (zur Auswahl)<br />komplett organisiert inkl. Transfe
 r</h4></div></div><div class="elementor-element elementor-element-dba26b
 3 elementor-widget elementor-widget-text-editor" data-id="dba26b3" data-
 element_type="widget" data-widget_type="text-editor.default"><div class=
 "elementor-widget-container"><ul><li>Globalfoundries</li><li>Institut f&
 uuml;r Luft- und Raumfahrttechnik an der TU Dresden</li><li>Radeberger E
 xportbierbrauerei</li><li>Architekturf&uuml;hrung im Milit&auml;rhistori
 schen Museum</li><li>Verkehrsmuseum Dresden</li><li>Schloss Albrechtsber
 g</li><li>S&auml;chsischer Landtag</li><li>Stadtrundfahrt / Rundgang</li
 ><li>KWD Karosseriewerke Dresden GmbH&nbsp;</li><li>Deutsche Werkst&auml
 ;tten Hellerau&nbsp;</li><li>HZDR Helmholtz-Zentrum Dresden-Rossendorf&n
 bsp;</li></ul></div></div></div></div><div class="elementor-column eleme
 ntor-col-50 elementor-top-column elementor-element elementor-element-fa0
 9029" data-id="fa09029" data-element_type="column" data-settings="{&quot
 ;background_background&quot;:&quot;classic&quot;}"><div class="elementor
 -widget-wrap elementor-element-populated"><div class="elementor-element 
 elementor-element-e27289f elementor-widget elementor-widget-heading" dat
 a-id="e27289f" data-element_type="widget" data-widget_type="heading.defa
 ult"><div class="elementor-widget-container"><h4 class="elementor-headin
 g-title elementor-size-default">ca. 18:00 Uhr Treffpunkt Lingnerschloss<
 /h4></div></div><div class="elementor-element elementor-element-cfcc3fc 
 elementor-widget elementor-widget-heading" data-id="cfcc3fc" data-elemen
 t_type="widget" data-widget_type="heading.default"><div class="elementor
 -widget-container"><h6 class="elementor-heading-title elementor-size-def
 ault">Entspanntes Beisammensein mit</h6></div></div><div class="elemento
 r-element elementor-element-ae82237 elementor-widget elementor-widget-te
 xt-editor" data-id="ae82237" data-element_type="widget" data-widget_type
 ="text-editor.default"><div class="elementor-widget-container"><ul><li>k
 ulinarischen K&ouml;stlichkeiten</li><li>jazzigen Kl&auml;ngen</li><li>G
 espr&auml;chen in angenehmer Atmosph&auml;re</li></ul></div></div><div c
 lass="elementor-element elementor-element-80d8fcc elementor-widget eleme
 ntor-widget-heading" data-id="80d8fcc" data-element_type="widget" data-w
 idget_type="heading.default"><div class="elementor-widget-container"><h6
  class="elementor-heading-title elementor-size-default">parallel Ausstel
 lung</h6></div></div><div class="elementor-element elementor-element-806
 1dca elementor-widget elementor-widget-text-editor" data-id="8061dca" da
 ta-element_type="widget" data-widget_type="text-editor.default"><div cla
 ss="elementor-widget-container"><p>Pr&auml;sentation von Initiativen, B&
 uuml;ndnissen und Unternehmen in einer Begleitausstellung:</p><ul><li>G&
 ouml;tz G&uuml;nther GmbH IT Service</li><li>MTM Solutions GmbH</li><li>
 Auktion &amp; Markt AG</li></ul><p>weitere folgen</p></div></div><div cl
 ass="elementor-element elementor-element-f93e8e1 elementor-widget elemen
 tor-widget-heading" data-id="f93e8e1" data-element_type="widget" data-wi
 dget_type="heading.default"><div class="elementor-widget-container"><h4 
 class="elementor-heading-title elementor-size-default">ab 22:00 Uhr Vera
 nstaltungsausklang</h4></div></div></div></div></div></div></div></div><
 /div></section> </BODY></HTML>
END:VEVENT
END:VCALENDAR
