BEGIN:VCALENDAR
PRODID;X-RICAL-TZSOURCE=TZINFO:-//com.denhaven2/NONSGML ri_cal gem//EN
CALSCALE:GREGORIAN
VERSION:2.0
BEGIN:VTIMEZONE
TZID;X-RICAL-TZSOURCE=TZINFO:Europe/Berlin
BEGIN:DAYLIGHT
DTSTART:20260329T020000
RDATE:20260329T020000
TZOFFSETFROM:+0100
TZOFFSETTO:+0200
TZNAME:CEST
END:DAYLIGHT
END:VTIMEZONE
BEGIN:VEVENT
DTEND;TZID=Europe/Berlin;VALUE=DATE-TIME:20260429T200000
DTSTART;TZID=Europe/Berlin;VALUE=DATE-TIME:20260429T180000
CATEGORIES:BUSINESS
DESCRIPTION: Treffsichere Personalauswahl gilt als zentrales Ziel profess
 ionellen Recruitings – und ist doch in der Praxis häufig eine Illusion. 
 Trotz strukturierter Verfahren\, Tests und wissenschaftlicher Fundierung
  führen Auswahlentscheidungen nicht selten zu Fehlbesetzungen oder falsc
 h positiven Entscheidungen.\n\nDas Netzwerktreffen PERSONAL im April ric
 htet sich an alle\, die Personalgewinnung und -auswahl verantworten oder
  fachlich mitgestalten und ihre Auswahlpraxis reflektiert weiterentwicke
 ln möchten. In seinem Impulsvortrag bietet Prof. Dr. Jörg Klukas eine fu
 ndierte Einordnung zentraler Kritikpunkte der Personalauswahlforschung u
 nd verbindet wissenschaftliche Perspektiven mit praktischen Konsequenzen
  für den Recruiting-Alltag. \nWir freuen uns sehr auf diesen spannenden 
 und erkenntnisreichen Abend und darauf\, dass wir auch mit dem April-Net
 zwerktreffen am 29. April 2026 wieder im Victor´s Residenz-Hotel Leipzig
  zu Gast sein können. \n 
URL:https://www.empfehlungsbund.de/events/149
SUMMARY:Netzwerktreffen Personal - Impulsvortrag von Jörg Klukas - Der My
 thos von der treffsicheren Personalauswahl – neue Erkenntnisse aus der E
 ignungsdiagnostik
ORGANIZER;CN=Empfehlungsbund.de:https://www.empfehlungsbund.de/events/149
ATTACH:https://www.empfehlungsbund.de/events/149
LOCATION:Victor´s Residenz-Hotel Leipzig
X-ALT-DESC:<!DOCTYPE HTML><HTML><BODY> <p class="wp-block-paragraph">Tre
 ffsichere <strong>Personalauswahl</strong> gilt als zentrales Ziel profe
 ssionellen Recruitings &ndash; und ist doch in der Praxis h&auml;ufig ei
 ne Illusion. Trotz strukturierter Verfahren, Tests und wissenschaftliche
 r Fundierung f&uuml;hren <strong>Auswahlentscheidungen</strong> nicht se
 lten zu Fehlbesetzungen oder falsch positiven Entscheidungen.</p><p><spa
 n id="more-11120"></span></p><p class="wp-block-paragraph">Das Netzwerkt
 reffen PERSONAL im April richtet sich an alle, die&nbsp;Personalgewinnun
 g und -auswahl verantworten oder fachlich mitgestalten&nbsp;und ihre <st
 rong>Auswahlpraxis</strong> reflektiert weiterentwickeln m&ouml;chten. I
 n seinem Impulsvortrag&nbsp;bietet <strong>Prof. Dr. J&ouml;rg Klukas</s
 trong> eine fundierte Einordnung zentraler Kritikpunkte der <strong>Pers
 onalauswahlforschung</strong> und verbindet wissenschaftliche Perspektiv
 en mit <strong>praktischen Konsequenzen f&uuml;r den Recruiting-Alltag</
 strong>.&nbsp;</p><p class="has-black-color has-text-color has-link-colo
 r wp-elements-24f9f94eb346944a8bf2654a73db869c wp-block-paragraph">Wir f
 reuen uns sehr auf diesen spannenden und erkenntnisreichen Abend und dar
 auf, dass wir auch mit dem April-Netzwerktreffen am 29. April 2026 wiede
 r im <a href="https://www.victors.de/hotels/victor-s-residenz-hotel-leip
 zig" target="_blank" rel="noreferrer noopener"><strong>Victor&acute;s Re
 sidenz-Hotel Leipzig</strong></a> zu Gast sein k&ouml;nnen.&nbsp;</p> </
 BODY></HTML>
END:VEVENT
END:VCALENDAR
